BEGIN:VCALENDAR
VERSION:2.0
PRODID:-//Lake Front Royal POA - ECPv6.15.20//NONSGML v1.0//EN
CALSCALE:GREGORIAN
METHOD:PUBLISH
X-WR-CALNAME:Lake Front Royal POA
X-ORIGINAL-URL:https://lfrpoa.org
X-WR-CALDESC:Events for Lake Front Royal POA
REFRESH-INTERVAL;VALUE=DURATION:PT1H
X-Robots-Tag:noindex
X-PUBLISHED-TTL:PT1H
BEGIN:VTIMEZONE
TZID:America/New_York
BEGIN:DAYLIGHT
TZOFFSETFROM:-0500
TZOFFSETTO:-0400
TZNAME:EDT
DTSTART:20240310T070000
END:DAYLIGHT
BEGIN:STANDARD
TZOFFSETFROM:-0400
TZOFFSETTO:-0500
TZNAME:EST
DTSTART:20241103T060000
END:STANDARD
BEGIN:DAYLIGHT
TZOFFSETFROM:-0500
TZOFFSETTO:-0400
TZNAME:EDT
DTSTART:20250309T070000
END:DAYLIGHT
BEGIN:STANDARD
TZOFFSETFROM:-0400
TZOFFSETTO:-0500
TZNAME:EST
DTSTART:20251102T060000
END:STANDARD
BEGIN:DAYLIGHT
TZOFFSETFROM:-0500
TZOFFSETTO:-0400
TZNAME:EDT
DTSTART:20260308T070000
END:DAYLIGHT
BEGIN:STANDARD
TZOFFSETFROM:-0400
TZOFFSETTO:-0500
TZNAME:EST
DTSTART:20261101T060000
END:STANDARD
END:VTIMEZONE
BEGIN:VEVENT
DTSTART;TZID=America/New_York:20251105T180000
DTEND;TZID=America/New_York:20251105T193000
DTSTAMP:20260421T054639
CREATED:20250814T163440Z
LAST-MODIFIED:20250814T164008Z
UID:2743-1762365600-1762371000@lfrpoa.org
SUMMARY:Community Board Meeting
DESCRIPTION:Join the Lake Front Royal POA Board at Samuels Public Library (330 E Criser Rd\, Front Royal\, VA 22630) for updates on roads and lake projects\, the budget/fees timeline\, upcoming events\, and a brief Treasurer/County report—followed by open community comments and Q&A. All homeowners are welcome; bring questions or submit them in advance. Meeting minutes will be posted within 30 days.
URL:https://lfrpoa.org/event/community-board-meeting/
LOCATION:Samuels Public Library\, 330 E Criser Rd\, Front Royal\, 22630\, United States
CATEGORIES:Event
ATTACH;FMTTYPE=image/png:https://lfrpoa.org/wp-content/uploads/2025/08/community-board.png
END:VEVENT
END:VCALENDAR